BEGIN:VCALENDAR
VERSION:2.0
PRODID:-//ChamberMaster//Event Calendar 2.0//EN
METHOD:PUBLISH
X-PUBLISHED-TTL:P3D
REFRESH-INTERVAL:P3D
CALSCALE:GREGORIAN
BEGIN:VEVENT
DTSTART:20260716T220000Z
DTEND:20260717T010000Z
X-MICROSOFT-CDO-ALLDAYEVENT:FALSE
SUMMARY:An Evening with Josh Goforth
DESCRIPTION:An Evening with Josh Goforth.\n\nJoin us for a special night of music and storytelling with Grammy-nominated musician Josh Goforth. Josh is bringing a whole new show to the Bills Creek Community Center.  A native of the Blue Ridge Mountains\, Josh Goforth brings the mountains to life with hilarious stories\, rich traditions\, and toe-tapping tunes.\n\nHe is a master of Appalachian music traditions\, blending old-time\, bluegrass\, and folk with engaging storytelling. A true multi-instrumentalist\, he plays nearly 20 instruments and has performed on some of the world's most renowned stages\, including the Grand Ole Opry\, Carnegie Hall\, and Lincoln Center.\n\nShow cost will be $40.00 per person. Doors open/refreshments at 6 PM  Concert at 7 PM.\n\nTickets- https://www.paypal.com/ncp/payment/RAQZ96ARF7AEW
X-ALT-DESC;FMTTYPE=text/html:<div>An Evening with Josh Goforth.<br />\nJoin us for a special night of music and storytelling with Grammy-nominated musician <strong>Josh Goforth</strong>. Josh is bringing a whole new show to the Bills Creek Community Center.&nbsp\; A native of the Blue Ridge Mountains\, Josh Goforth brings the mountains to life with hilarious stories\, rich traditions\, and toe-tapping tunes.<br />\nHe is a master of Appalachian music traditions\, blending old-time\, bluegrass\, and folk with engaging storytelling. A true multi-instrumentalist\, he plays nearly 20 instruments and has performed on some of the world&rsquo\;s most renowned stages\, including the Grand Ole Opry\, Carnegie Hall\, and Lincoln Center.</div>\n\n<div>Show cost will be $40.00 per person. Doors open/refreshments at 6 PM&nbsp\; Concert at 7 PM.<br />\nTickets-&nbsp\;<a href="https://www.paypal.com/ncp/payment/RAQZ96ARF7AEW" style="color: rgb(17\, 85\, 204)\; font-family: Arial\, Helvetica\, sans-serif\; font-size: small\; background-color: rgb(255\, 255\, 255)\;" target="_blank">https://www.paypal.com/ncp/payment/RAQZ96ARF7AEW</a>&nbsp\;&nbsp\;</div>\n
LOCATION:Bills Creek Community Center 198 Club House Road Lake Lure\, NC 28746
UID:e.1811.19797
SEQUENCE:3
DTSTAMP:20260420T182051Z
URL:https://hickorynutchamber.org/events/details/an-evening-with-josh-goforth-07-16-2026-19797
END:VEVENT

END:VCALENDAR
