BEGIN:VCALENDAR
VERSION:2.0
PRODID:-//ChamberMaster//Event Calendar 2.0//EN
METHOD:PUBLISH
X-PUBLISHED-TTL:P3D
REFRESH-INTERVAL:P3D
CALSCALE:GREGORIAN
BEGIN:VEVENT
DTSTART:20260506T153000Z
DTEND:20260506T170000Z
X-MICROSOFT-CDO-ALLDAYEVENT:FALSE
SUMMARY:Books & Bites: Rose Senehi
DESCRIPTION:Enjoy a meal with local author Rose Senehi as she discusses her lates book\, A River Runs Through It.  \n\nThe cost of the event is $30. Reservations are required and must be made at Mountains Branch Library or over the phone at 828-287-8392. Payment may be made with a credit card.
X-ALT-DESC;FMTTYPE=text/html:Enjoy a meal with local author Rose Senehi as she discusses her lates book\, A<u> River Runs Through It</u>. &nbsp\;<br />\nThe cost of the event is $30. Reservations are required and must be made at Mountains Branch Library or over the phone at 828-287-8392. Payment may be made with a credit card.
LOCATION:La Strada Restaurant
UID:e.1811.19787
SEQUENCE:3
DTSTAMP:20260420T180412Z
URL:https://hickorynutchamber.org/events/details/books-bites-rose-senehi-19787
END:VEVENT

END:VCALENDAR
