BEGIN:VCALENDAR
VERSION:2.0
PRODID:-//ChamberMaster//Event Calendar 2.0//EN
METHOD:PUBLISH
X-PUBLISHED-TTL:P3D
REFRESH-INTERVAL:P3D
CALSCALE:GREGORIAN
BEGIN:VEVENT
DTSTART:20260414T153000Z
DTEND:20260826T170000Z
X-MICROSOFT-CDO-ALLDAYEVENT:FALSE
SUMMARY:Books & Bites: Susan Zurenda
DESCRIPTION:Enjoy a meal with author Susan Zurenda as she discusses her latest book No Way Out But Through. The cost of the luncheon event is $30. Reservations are required and must be made at Mountains Branch Library or over the phone at 828-287-6392.  Books will be available for purchase at the event.
X-ALT-DESC;FMTTYPE=text/html:Enjoy a meal with author Susan Zurenda as she discusses her latest book <u>No Way Out But Through.</u>&nbsp\;The cost of the luncheon event is $30. Reservations are required and must be made at Mountains Branch Library or over the phone at 828-287-6392. &nbsp\;Books will be available for purchase at the event.<br />\n&nbsp\;
LOCATION:La Strada Restaurant
UID:e.1811.19794
SEQUENCE:3
DTSTAMP:20260420T175943Z
URL:https://hickorynutchamber.org/events/details/books-bites-susan-zurenda-19794
END:VEVENT

END:VCALENDAR
